BEGIN:VCALENDAR
VERSION:2.0
PRODID:icalendar-ruby
CALSCALE:GREGORIAN
METHOD:PUBLISH
BEGIN:VEVENT
DTSTAMP:20260420T193322Z
UID:9-268033@plentywoodharvest.com
DTSTART;VALUE=DATE:20261004
DTEND;VALUE=DATE:20261004
CLASS:PUBLIC
CREATED:20260420T111627
DESCRIPTION:Worship at Harvest on Sundays at 10 AM.\nFree coffee bar availa
 ble before and after service.
LAST-MODIFIED:20260420T111627
LOCATION:
SUMMARY:Sunday Worship
URL;VALUE=URI:https://www.plentywoodharvest.com/events/sunday-worship/2026-
 10-04
ATTACH;FILENAME=321308435_1133724794180230_773727253384236162_n.jpg;FMTTYPE
 =image/jpeg:https://dq5pwpg1q8ru0.cloudfront.net/2024/10/21/00/54/09/229af
 3d6-48a8-4c41-a589-9c0040410285/321308435_1133724794180230_773727253384236
 162_n.jpg
END:VEVENT
END:VCALENDAR
